BEGIN:VCALENDAR
VERSION:2.0
PRODID:-//Squarespace Inc/Squarespace 6//v6//EN
BEGIN:VEVENT
UID:5af92b40562fa732be427d05@squarespace.com
DTSTAMP:20180514T064131Z
DTSTART:20180617T060000Z
DTEND:20180617T070000Z
SUMMARY:ACWE Cushion Concert for Kids
GEO:-35.002205;117.85617
LOCATION:Mt Lockyer Primary School\, 67 South Coast Highway\, Lockyer\, WA\
 , 6330\, Australia
END:VEVENT
END:VCALENDAR
