BEGIN:VCALENDAR
VERSION:2.0
PRODID:-//Squarespace Inc/Squarespace 6//v6//EN
BEGIN:VEVENT
UID:5b7d5d15562fa73ad482161a@squarespace.com
DTSTAMP:20180822T125530Z
DTSTART:20181202T060000Z
DTEND:20181202T080000Z
SUMMARY:ACWE Family Christmas Concert Matinee
GEO:-35.029149;117.885794
LOCATION:Albany Entertainment Centre\, 2 Toll Pl\, Albany\, WA\, 6330\, Aus
 tralia
END:VEVENT
END:VCALENDAR
