BEGIN:VCALENDAR
VERSION:2.0
PRODID:-//Squarespace Inc/Squarespace 6//v6//EN
BEGIN:VEVENT
UID:5b7d5ab4758d4612643216b1@squarespace.com
DTSTAMP:20180822T125445Z
DTSTART:20181201T113000Z
DTEND:20181201T133000Z
SUMMARY: ACWE Family Christmas Concert
GEO:-35.029149;117.885794
LOCATION:Albany Entertainment Centre\, 2 Toll Pl\, Albany\, WA\, 6330\, Aus
 tralia
END:VEVENT
END:VCALENDAR
