BEGIN:VCALENDAR
VERSION:2.0
PRODID:-//Squarespace Inc/Squarespace 6//v6//EN
BEGIN:VEVENT
UID:58faf664e4fcb5073117e7fb@squarespace.com
DTSTAMP:20170624T091107Z
DTSTART:20170624T113000Z
DTEND:20170624T133000Z
SUMMARY:From the Top - SOLD OUT!
GEO:-35.005749;117.881576
LOCATION:Baptist Church Albany\, Bethel Way\, Yakamia\, WA\, 6330\, Austral
 ia
END:VEVENT
END:VCALENDAR
